Workbook

Sheet Pokyny k vyplnění
A2: VÝPOČTOVÝ NÁSTROJ PRO URČENÍ PŘÍJMOVÉHO DECILU ŽADATELE A JEHO DOMÁCNOSTI PRO PROGRAM NOVÁ ZELENÁ ÚSPORÁM
A3: Tento nástroj sloučí k určení příjmového decilu domácnosti pro programy podpory Nová zelená úsprám Light a Nová zelená úsporám bezúročný úvěr. Pomocí nástroje lze také snadno ověřit splnění podmínek pro možnost ucházet se o podporu za zvýhodněných podmínek pro domácnosti ohrožené energetickou chudobou.
A4: Vyplňte prosím zeleně označená pole na listu "VÝPOČTOVÝ NÁSTROJ" | H4: ZAČÍT VYPLŇOVAT
A6: Nápověda pro vyplnění jednotlivých polí:
A7: ČLENOVÉ DOMÁCNOSTI Jedná se o všechny osoby skutečně žijící v jedné domácnosti.
A8: První dospělá osoba | C8: Jedná se o jednu hlavní dospělou osobu dané domácnosti. Vždy musí být vyplněno číslo 1.
A9: Další dospělá osoba | C9: Jedná se o všechny další dospělé osoby v domácnosti.
A10: Dítě do 13 let včetně | C10: Jsou to všechny děti dané domácnosti do věku 13 let včetně.
A11: Dítě nad 13 let | C11: Jsou to všechny děti dané domácnosti nad 13 let.
A12: * Dítě svěřené do střídavé péče se považuje za člena domácnosti toho rodiče, na kterém se rodiče písemně dohodli. Pokud nedošlo k dohodě rodičů, dítě se považuje 3 měsíce za člena domácnosti jednoho rodiče a další 3 měsíce za člena domácnosti druhého rodiče. Pro stanovení decilu dle tohoto nástroje je rozhodující, do které domácnosti dítě spadá v měsíci podání žádosti
A13: TYP DOMÁCNOSTI Zvolte, zda Vaše domácnost odpovídá jednomu z tvrzení.
A14: Starobní důchodci | C14: Zvolte ano, pokud žijete v domácnosti tvořené výhradně starobními důchodci.
A15: Invalidita III. stupně | C15: Zvolte ano, pokud v domácnosti žije osoba s invalidním důchodem III. stupně.
A17: ČISTÉ MĚSÍČNÍ PŘÍJMY DOMÁCNOSTI Jedná se o měsíční průměr součtu čistých příjmů všech členů domácnosti za poslední 3 měsíce.
A18: Mzdy / platy | C18: Uveďte měsíční průměr celkových čistých příjmů ze závislé činnosti (např.: HPP, DPP, DPČ apod.) za celou domácnost.
A19: Příjmy z podnikání (OSVČ) | C19: Uveďte měsíční průměr celkových čistých příjmů ze samostatné výdělečné činnosti.
A20: Dávky a příspěvky | C20: Uveďte průměrnou měsíční výši všech dávek a příspěvků. Jedná se zejména o rodičovské příspěvky, peněžitou pomoc v mateřství, přídavky na dítě, apod. Příspěvek na péči se do příjmů domácnosti nezapočítává, pokud jde o příjem samotné závislé osoby (která příspěvek pobírá). Může se však započítat příjem pečující osoby, a to za předpokladu, že tato pečující osoba není členem domácnosti osoby, o kterou pečuje, a zároveň je uvedena/ohlášena jako pečující osoba. V takovém případě se do příjmů domácnosti započítává částka, kterou pečující osoba za péči skutečně obdržela.
A21: Důchody (starobní / invalidní) | C21: Uveďte měsíční výši důchodů všech členů domácnosti, kteří je pobírají.
A22: Výživné | C22: Uveďte výši měsíčního výživného.
A23: Jiné příjmy | C23: Uveďte průměrné měsíční příjmy jinde nezařazené (pronájmy, příjmy z kapitálu, aj.).
A25: ZPŮSOB DOKLADOVÁNÍ PŘÍJMŮ Všechny příjmy musí být prokazatelně doloženy prostřednictvím relevantních dokladů.
A26: Mzdy / platy | C26: Potvrzení od zaměstnavatele o průměrné mzdě nebo výplatní pásky nebo výpisy z bankovního účtu za poslední 3 měsíce.
A27: Příjmy z podnikání (OSVČ) | C27: Poslední daňové přiznání nebo přehled o příjmech a výdajích a přehled zdravotního pojištění za rok nebo oznámení o vstupu do paušálního režimu včetně potvrzení jeho odevzdání/přijetí.
A28: Dávky a příspěvky | C28: Potvrzení ČSSZ/ÚP o vyplacených dávkách nebo přehled vyplacených částek nebo výpisy z bankovního účtu nebo ústřižky z poštovní poukázky za poslední 3 ukončené měsíce.
A29: Důchody (starobní / invalidní) | C29: Rozhodnutí o přiznání důchodu nebo potvrzení o výši důchodu nebo výpisy z bankovního účtu nebo ústřižky z poštovní poukázky za poslední 3 ukončené měsíce.
A30: Výživné | C30: Rozsudek soudu nebo dohoa o výživném nebo doklad o skutečně přijatých platbách (výpis z účtu, poštovní poukázky, aj.) za poslední 3 ukončené měsíce.
A31: Jiné příjmy | C31: Nájemní smlouvy nebo daňové přiznání (příloha § 9) nebo případně evidence příjmů z nájmu nebo výpisy z bankovního účtu nebo potvrzení banky nebo potvrzení finanční instituce nebo roční výpis z investičního účtu aj. za poslední 3 ukončené měsíce.
A32: Osoby bez zdanitelných příjmů | C32: Výpisy z bankovního účtu nebo potvrzení banky o odchozích transakcí za poslední 3 ukončené měsíce, ze kterých bude patrné, že si osoba platí sama zdravotní pojištění nebo potvrzení zdravotní pojišťovny o úhradě pojistného za poslední 3 ukončené měsíce.
A34: ZPŮSOB VÝPOČTU ČISTÉHO MĚSÍČNÍHO PŘÍJMU OSVČ
A35: OSVČ | C35: Dle daňového přiznání. (řádek 45 z DP - řádek 77 z DP + řádek 77a z DP - řádek 32.3 z PSP - řádek 16 z PZP) / 12
A36: OSVČ paušální daň | C36: Výpočet: (horní hranice příjmu pro příslušné pásmo paušálního režimu - výdajový paušál - 12*paušální daň) / 12
A37: verze 1.2 (24. 6. 2026)

Sheet Výpočtový nástroj
A2: VÝPOČTOVÝ NÁSTROJ PRO URČENÍ PŘÍJMOVÉHO DECILU ŽADATELE A JEHO DOMÁCNOSTI PRO PROGRAM NOVÁ ZELENÁ ÚSPORÁM
A4: ČLENOVÉ DOMÁCNOSTI
A5: Zadejte počet jednotlivých členů domácnosti.
A6: Člen domácnosti | B6: Počet členů v domácnosti
A7: První dospělý | B7: 1
A8: Další dospělý | B8: 1
A9: Dítě do 13 let včetně | B9: 0
A10: Dítě nad 13 let | B10: 0
A12: TYP DOMÁCNOSTI
A13: Upřesněte specifika Vaší domácnosti.
A14: Domácnost složená výhradně ze starobních důchodců? | B14: Ano
A15: V domácnosti je osoba pobírající invalidní důchod III. stupně? | B15: Ne
A17: ČISTÉ MĚSÍČNÍ PŘÍJMY DOMÁCNOSTI
A18: Zadejte celkové měsíční čisté příjmy za všechny členy domácnosti.
A19: Druh příjmu | B19: Částka (Kč)
A20: Mzdy / platy | B20: 0
A21: Příjmy z podnikání (OSVČ) | B21: 0
A22: Dávky a příspěvky | B22: 0
A23: Důchody (starobní / invalidní) | B23: 34263 | J23: 20263 | K23: 14000
A24: Výživné | B24: 0
A25: Jiné příjmy | B25: 0
A27: VÝSLEDNÉ HODNOTY
A28: Přepočtené spotřební jednotky | B28: =B7+(0.5*B8)+(0.5*B10)+(0.3*B9) -> 1.5
A29: Celkové čisté měsíční příjmy domácnosti | B29: =IFERROR(IF(SUM(B20:B25)>0,SUM(B20:B25),"Zkontrolujte zadání!"),"Zkontrolujte zadání!") -> 34263
A31: Výsledný příjmový decil pro zadané hodnoty | B31: {=IFERROR(IF(AND(ISNUMBER(B28),ISNUMBER(B29)),IF(B29>Data!B11,Data!A12,IFERROR(INDEX(Data!A3:A11,MATCH(MIN(IF(Data!B3:B11>=B29,Data!B3:B11)),Data!B3:B11,0)),"Chyba")),"Zkontrolujte zadání!"),"Zkontrolujte zadání!")} -> 3
A33: Možnost žádat o výhodnou dotaci NZÚ Light? | B33: =IF(ISNUMBER(B31),IF(OR(B31<4,AND(B31<6,B14="Ano"),AND(B31<6,B15="Ano")),"Ano","Ne"),"?") -> Ano
A34: Zvýhodněná dotace pro nedostatečně zateplené domy (Uem třída E-G)
A36: Možnost žádat o bezúročný úvěr NZÚ se splatností 25 let? | B36: =IF(ISNUMBER(B31),IF(B31<5,"Ano","Ne"),"?") -> Ano
A37: Zajištěný úvěr na komplexní opatření
A39: Možnost žádat o zpracování Renovačního pasu a dotační poradenství? | B39: =IF(ISNUMBER(B31),IF(OR(B31<4,AND(B31<6,B14="Ano"),AND(B31<6,B15="Ano")),"Ano","Ne"),"?") -> Ano
A40: Pouze pro domácnosti ohrožené energetickou chudobou.
A42: ŽADATEL
A43: Příjmení
A44: Jméno
A45: =CONCAT("Datum zpracování: ",DAY(TODAY()),". ",MONTH(TODAY()),". ",YEAR(TODAY())) -> #N/A
A47: ='Pokyny k vyplnění'!A37 -> verze 1.2 (24. 6. 2026) | B47: podpis žadatele

Sheet Definice decilů
F1: Decil - Horní hranice čistých peněžních příjmů
A2: Domácnost | B2: Osoba v čele | C2: Další děti a osoby | D2: Děti do 13 let | E2: Spotřební jednotky | F2: 1 | G2: 2 | H2: 3 | I2: 4 | J2: 5 | K2: 6 | L2: 7 | M2: 8 | N2: 9 | O2: 10
A3: Jednotlivec | B3: 1 | C3: 0 | D3: 0 | E3: =B3+0.5*C3+0.3*D3 -> 1 | F3: 19416.667 | G3: 22765.833 | H3: 25425.5 | I3: 28198 | J3: 31058.333 | K3: 34417 | L3: 38513.417 | M3: 44216.5 | N3: 54056
A4: Samoživitel(ka) s 1 dítětem do 13 let | B4: 1 | C4: 0 | D4: 1 | E4: =B4+0.5*C4+0.3*D4 -> 1.3 | F4: 25241.667 | G4: 29595.583 | H4: 33053.15 | I4: 36657.4 | J4: 40375.833 | K4: 44742.1 | L4: 50067.442 | M4: 57481.45 | N4: 70272.8
A5: Samoživitel(ka) s 2 dětmi do 13 let | B5: 1 | C5: 0 | D5: 2 | E5: =B5+0.5*C5+0.3*D5 -> 1.6 | F5: 31066.667 | G5: 36425.333 | H5: 40680.8 | I5: 45116.8 | J5: 49693.333 | K5: 55067.2 | L5: 61621.467 | M5: 70746.4 | N5: 86489.6
A6: Bezdětný pár | B6: 1 | C6: 1 | D6: 0 | E6: =B6+0.5*C6+0.3*D6 -> 1.5 | F6: 29125 | G6: 34148.75 | H6: 38138.25 | I6: 42297 | J6: 46587.5 | K6: 51625.5 | L6: 57770.125 | M6: 66324.75 | N6: 81084
A7: Rodina s 1 dítětem do 13 let | B7: 1 | C7: 1 | D7: 1 | E7: =B7+0.5*C7+0.3*D7 -> 1.8 | F7: 34950 | G7: 40978.5 | H7: 45765.9 | I7: 50756.4 | J7: 55905 | K7: 61950.6 | L7: 69324.15 | M7: 79589.7 | N7: 97300.8
A8: Rodina s 2 dětmi do 13 let | B8: 1 | C8: 1 | D8: 2 | E8: =B8+0.5*C8+0.3*D8 -> 2.1 | F8: 40775 | G8: 47808.25 | H8: 53393.55 | I8: 59215.8 | J8: 65222.5 | K8: 72275.7 | L8: 80878.175 | M8: 92854.65 | N8: 113517.6
A9: Rodina s 1 dítětem do 13 let a 1 starším dítětem | B9: 1 | C9: 2 | D9: 1 | E9: =B9+0.5*C9+0.3*D9 -> 2.3 | F9: 44658.333 | G9: 52361.417 | H9: 58478.65 | I9: 64855.4 | J9: 71434.167 | K9: 79159.1 | L9: 88580.858 | M9: 101697.95 | N9: 124328.8
A10: Rodina s 2 dětmi do 13 let a 1 starším dítětem | B10: 1 | C10: 2 | D10: 2 | E10: =B10+0.5*C10+0.3*D10 -> 2.6 | F10: 50483.333 | G10: 59191.167 | H10: 66106.3 | I10: 73314.8 | J10: 80751.667 | K10: 89484.2 | L10: 100134.88 | M10: 114962.9 | N10: 140545.6
A11: Rodina se 3 dětmi do 13 let | B11: 1 | C11: 1 | D11: 3 | E11: =B11+0.5*C11+0.3*D11 -> 2.4 | F11: 46600 | G11: 54638 | H11: 61021.2 | I11: 67675.2 | J11: 74540 | K11: 82600.8 | L11: 92432.2 | M11: 106119.6 | N11: 129734.4
A12: Rodina se 4 dětmi do 13 let | B12: 1 | C12: 1 | D12: 4 | E12: =B12+0.5*C12+0.3*D12 -> 2.7 | F12: 52425 | G12: 61467.75 | H12: 68648.85 | I12: 76134.6 | J12: 83857.5 | K12: 92925.9 | L12: 103986.23 | M12: 119384.55 | N12: 145951.2
A15: Data
A16: EU-SILC 2025
A18: Definice
A19: Použité příjmy = čisté peněžní příjmy domácnosti
A20: Spotřební jednotky dle definice EU
A21: Vlastníci = domácnosti ve vlastním domě, bytě v osobním vlastnictví a v družstevním bytě

Sheet Data
A1: Decil | B1: Pro konkrétní domácnosti | C1: Reference
B2: ='Výpočtový nástroj'!B28 -> 1.5 | C2: 1
A3: 1 | B3: ='Výpočtový nástroj'!$B$28*Data!C3 -> 29125 | C3: {=TRANSPOSE('Definice decilů'!F3:N3)} -> 19416.667
A4: 2 | B4: ='Výpočtový nástroj'!$B$28*Data!C4 -> 34148.75 | C4: 22765.833
A5: 3 | B5: ='Výpočtový nástroj'!$B$28*Data!C5 -> 38138.25 | C5: 25425.5
A6: 4 | B6: ='Výpočtový nástroj'!$B$28*Data!C6 -> 42297 | C6: 28198
A7: 5 | B7: ='Výpočtový nástroj'!$B$28*Data!C7 -> 46587.5 | C7: 31058.333
A8: 6 | B8: ='Výpočtový nástroj'!$B$28*Data!C8 -> 51625.5 | C8: 34417
A9: 7 | B9: ='Výpočtový nástroj'!$B$28*Data!C9 -> 57770.125 | C9: 38513.417
A10: 8 | B10: ='Výpočtový nástroj'!$B$28*Data!C10 -> 66324.75 | C10: 44216.5
A11: 9 | B11: ='Výpočtový nástroj'!$B$28*Data!C11 -> 81084 | C11: 54056
A12: 10
